BEGIN:VCALENDAR
VERSION:2.0
PRODID:-//eventon.com NONSGML v1.0//EN
BEGIN:VEVENT
UID:69e5e44293e18
DTSTAMP:20260420T083058
DTSTART:20220604T150000Z
DTEND:20220604T220000Z
TZID:Pacific/Midway
LOCATION:Bismarckplatz Bismarckplatz 6
SUMMARY:Waldinsel Lasterkonzert mit "Interna"
DESCRIPTION: mit Plattenbörse & Grill | Support: Troubadour Boris von der Burg Auf Spendenbasis | auf dem Bismarckplatz\nhttps://stadtsalon-safari.de/events/waldinsel-lasterkonzert-mit-interna/
URL:https://stadtsalon-safari.de/events/waldinsel-lasterkonzert-mit-interna/
END:VEVENT
END:VCALENDAR