BEGIN:VCALENDAR
VERSION:2.0
PRODID:-//eventon.com NONSGML v1.0//EN
BEGIN:VEVENT
UID:69e7e5a729bae
DTSTAMP:20260421T210127
DTSTART:20220702T190000Z
DTEND:20220702T220000Z
TZID:Pacific/Midway
LOCATION:Safari Garten Friedrich-Ebert-Str. 15
SUMMARY:ABGESAGT - Salon der Kulturen- Interkultureller Musikabend
DESCRIPTION: Es ist wirklich furchtbar traurig\,  aber wir müssen wegen Corona die Veranstaltung leider absagen. Es tut uns wahnsinnig leid! Aber es wird einen Nachholtermin geben. Bis dahin\,  bleibt alles gesund! Im Rahmen des Salon der Kulturen haben wir eine tolle Mischung von unterschiedlichster Musiken zusammengebracht. Auf unserer Gartenbühne spielen:Wafi Yaghiba[..]\nhttps://stadtsalon-safari.de/events/salon-der-kulturen-interkultureller-musikabend/
URL:https://stadtsalon-safari.de/events/salon-der-kulturen-interkultureller-musikabend/
END:VEVENT
END:VCALENDAR