BEGIN:VCALENDAR
VERSION:2.0
PRODID:-//eventon.com NONSGML v1.0//EN
BEGIN:VEVENT
UID:69e829583af11
DTSTAMP:20260422T015016
DTSTART:20220821T110000Z
DTEND:20220821T000000Z
TZID:Pacific/Midway
LOCATION:
SUMMARY:Schnupper-Pilates für Einsteiger*innen
DESCRIPTION: Du möchtest Deinem Körper etwas Gutes tun\,  Deine Haltung verbessern\,  Verspannungen vorbeugen und Deine stabilisierende Tiefenmuskulatur kräftigen? Pilates ist ein ganzheitliches\,  sanftes Ganzkörpertraining. Die Übungen werden im Atemrhytmus langsam und konzentriert ausgeführt. An vorerst 3 kostenlosen Terminen à 60 Min lernen wir die Grundlagen dieses wohltuenden Matten-Trainings kennen. Um Anmeldung[..]\nhttps://stadtsalon-safari.de/events/pilates-im-safari/var/ri-2.l-L1
URL:https://stadtsalon-safari.de/events/pilates-im-safari/var/ri-2.l-L1
END:VEVENT
END:VCALENDAR