BEGIN:VCALENDAR
VERSION:2.0
PRODID:-//eventon.com NONSGML v1.0//EN
BEGIN:VEVENT
UID:69e7370ff23a8
DTSTAMP:20260421T083631
DTSTART:20221014T190000Z
DTEND:20221014T103000Z
TZID:Pacific/Midway
LOCATION:Stadtsalon Safari Bismarckplatz 6
SUMMARY:Filmabend: Der laute Frühling
DESCRIPTION: Seit Beginn der UN-Klimakonferenzen im Jahr 1992 sind die jährlichen CO2-Emissionen nicht zurückgegangen. Vielmehr haben sie um über 60 % zugenommen. Warum? Und vor allem: Wie können wir den Klimawandel aufhalten? In der Klimabewegung setzt sich zwar mehr und mehr die Erkenntnis durch\,  dass Kapitalismus und Klimaschutz unvereinbar sind\,  es[..]\nhttps://stadtsalon-safari.de/events/filmabend-der-laute-fruehling/
URL:https://stadtsalon-safari.de/events/filmabend-der-laute-fruehling/
END:VEVENT
END:VCALENDAR