BEGIN:VCALENDAR
VERSION:2.0
PRODID:-//eventon.com NONSGML v1.0//EN
BEGIN:VEVENT
UID:69ea3fed866a1
DTSTAMP:20260423T155109
DTSTART:20250228T190000Z
DTEND:20250228T230000Z
TZID:Europe/Berlin
LOCATION:Stadtsalon Safari Bismarckplatz 6
SUMMARY:Easy Friday
DESCRIPTION: Ihr habt Lust auf ein kühles Getränk und ein paar nette Gespräche zum Ende der Arbeitswoche? Wir öffnen jeden Freitag von 19:00—23:00 den Stadtsalon Safari für den Easy Friday! Wie der Name schon sagt\,  soll es ein zwangloses Zusammenkommen sein\,  ganz ohne Dresscode oder sonstigen Schnickschnack. Es wird jedes Mal[..]\nhttps://stadtsalon-safari.de/events/easy-friday-jugendclub-fuer-erwachsene/var/ri-1.l-L1
URL:https://stadtsalon-safari.de/events/easy-friday-jugendclub-fuer-erwachsene/var/ri-1.l-L1
END:VEVENT
END:VCALENDAR