BEGIN:VCALENDAR
VERSION:2.0
PRODID:-//eventon.com NONSGML v1.0//EN
BEGIN:VEVENT
UID:69e7385e6bb42
DTSTAMP:20260421T084206
DTSTART:20231111T200000Z
DTEND:20231111T220000Z
TZID:Pacific/Midway
LOCATION:Stadtsalon Safari Bismarckplatz 6
SUMMARY:Kabarett mit Sunna Huygen: OZEAN ZEIT
DESCRIPTION: Die Zeit wird knapp und das Meer eng. Während wir noch über nasse Füße jammern\,  steht den anderen das Wasser schon bis zum Hals. Das Klima kippt und das Patriarchat schlägt zurück. Wir drohen auseinander zu treiben\,  unterzugehen in dieser orientierungslosen Zeit\,  weil wir nicht mehr wissen\,  welches Ungeheuer die[..]\nhttps://stadtsalon-safari.de/events/kabarett-mit-sunna-huygen-ozean-zeit/
URL:https://stadtsalon-safari.de/events/kabarett-mit-sunna-huygen-ozean-zeit/
END:VEVENT
END:VCALENDAR