BEGIN:VCALENDAR
VERSION:2.0
PRODID:-//eventon.com NONSGML v1.0//EN
BEGIN:VEVENT
UID:69e9ef297a38c
DTSTAMP:20260423T100633
DTSTART:20240419T190000Z
DTEND:20240419T162800Z
TZID:Pacific/Midway
LOCATION:Stadtsalon Safari Bismarckplatz 6
SUMMARY:Safari-Quizabend mit Karaoke
DESCRIPTION: Quiz and Sing&#8230; was für eine Kombination! Erst werden die Gehirnzellen und dann die Stimmbänder angeregt! Es wird in Teams gequizt und Fragen aus verschiedenen Bereichen beantwortet. Im Anschluss können alle ihre Lieblingssongs beim Karaoke zum besten geben.\nhttps://stadtsalon-safari.de/events/safari-quizabend/
URL:https://stadtsalon-safari.de/events/safari-quizabend/
END:VEVENT
END:VCALENDAR