BEGIN:VCALENDAR
VERSION:2.0
PRODID:-//eventon.com NONSGML v1.0//EN
BEGIN:VEVENT
UID:69ec12bc7035e
DTSTAMP:20260425T010252
DTSTART:20240717T190000Z
DTEND:20240717T210000Z
TZID:Pacific/Midway
LOCATION:Stadtsalon Safari Bismarckplatz 6
SUMMARY:Lowtech Innovation Club
DESCRIPTION: An jedem dritten Mittwoch im Monat geht es ab sofort im Safari im das Thema Lowtech. Heute geht es um 3D-Druck und Open Source Maschinen &#8211; der Global Village Construction Set. Was ist es? Wie funktioniert er? Wie kann ich damit arbeiten? Was kostet es? Welche sind die Voraussetzungen? Welche[..]\nhttps://stadtsalon-safari.de/events/lowtech-innovation-club-2/
URL:https://stadtsalon-safari.de/events/lowtech-innovation-club-2/
END:VEVENT
END:VCALENDAR