BEGIN:VCALENDAR
VERSION:2.0
PRODID:-//eventon.com NONSGML v1.0//EN
BEGIN:VEVENT
UID:69e765ce19858
DTSTAMP:20260421T115558
DTSTART:20240925T190000Z
DTEND:20240925T223000Z
TZID:Pacific/Midway
LOCATION:Stadtsalon Safari Bismarckplatz 6
SUMMARY:Musik mit Händen & Füßen - Musikmachen kann jeder!
DESCRIPTION: Man muss kein Instrument spielen\,  der eigene Körper selbst hat musikalisches Talent. Die beiden Mitglieder des Stadtsalon Safari e.V. Ade und Jürgen bieten einen kleinen Kurs an\,  bei dem das kollektive Lernen von Musik mit Händen und Füßen im Vordergrund steht. Das Ziel ist der &#8218;Groove&#8216;\,  der den Körper in[..]\nhttps://stadtsalon-safari.de/events/musik-mit-haenden-fuessen-tanzkurs/
URL:https://stadtsalon-safari.de/events/musik-mit-haenden-fuessen-tanzkurs/
END:VEVENT
END:VCALENDAR