BEGIN:VCALENDAR
VERSION:2.0
PRODID:-//eventon.com NONSGML v1.0//EN
BEGIN:VEVENT
UID:69e4d0487f94f
DTSTAMP:20260419T125328
DTSTART:20260305T180000Z
DTEND:20260305T210000Z
TZID:Europe/Berlin
LOCATION:Stadtsalon Safari Bismarckplatz 6
SUMMARY:Downerstag Afterwork 
DESCRIPTION: Der Tag wird langsamer\,  die Abendbeleuchtung wird angeknipst\,  unser Downerstag beginnt. Warme Downtempo-Grooves fließen ineinander. Der Sound treibt nicht\,  er fängt auf.Dazu kühle Drinks und entspannte Stimmung — unaufgeregt\,  offen\,  genau richtig für einen verlängerten Donnerstag. Drop by. Stay soft. 🙃\nhttps://stadtsalon-safari.de/events/downerstag-afterwork/
URL:https://stadtsalon-safari.de/events/downerstag-afterwork/
END:VEVENT
END:VCALENDAR