BEGIN:VCALENDAR
VERSION:2.0
PRODID:-//eventon.com NONSGML v1.0//EN
BEGIN:VEVENT
UID:69e68c4d3ab9d
DTSTAMP:20260420T202757
DTSTART:20211029T170000Z
DTEND:20211029T220000Z
TZID:Europe/Berlin
LOCATION:
SUMMARY:Karaoke
DESCRIPTION: Ein fröhlicher Abend mit Gesang\nhttps://stadtsalon-safari.de/events/event-test-1/
URL:https://stadtsalon-safari.de/events/event-test-1/
END:VEVENT
END:VCALENDAR